BEGIN:VCALENDAR
VERSION:2.0
PRODID:-//Gard Nature - ECPv5.2.1//NONSGML v1.0//EN
CALSCALE:GREGORIAN
METHOD:PUBLISH
X-WR-CALNAME:Gard Nature
X-ORIGINAL-URL:https://gard-nature.com
X-WR-CALDESC:évènements pour Gard Nature
BEGIN:VTIMEZONE
TZID:Europe/Paris
BEGIN:DAYLIGHT
TZOFFSETFROM:+0100
TZOFFSETTO:+0200
TZNAME:CEST
DTSTART:20240331T010000
END:DAYLIGHT
BEGIN:STANDARD
TZOFFSETFROM:+0200
TZOFFSETTO:+0100
TZNAME:CET
DTSTART:20241027T010000
END:STANDARD
END:VTIMEZONE
BEGIN:VEVENT
DTSTART;TZID=Europe/Paris:20241116T090000
DTEND;TZID=Europe/Paris:20241116T160000
DTSTAMP:20260421T104723
CREATED:20241021T195653Z
LAST-MODIFIED:20241021T195653Z
UID:18516-1731747600-1731772800@gard-nature.com
SUMMARY:Sortie botanique à Saint Etienne de l'Olm
DESCRIPTION:Philippe nous propose une sortie botanique samedi 16 novembre à Saint Etienne de l’Olm.\n\n\n\nLe rendez-vous est fixé à 9h sur le parking de la mairie de Saint Etienne de l’Olm (n’oubliez pas le pique-nique). \nPour plus de renseignements\, vous pouvez contacter Laurent au 06 52 97 27 33 ou par mail : laurent.iparraguirre@orange.fr
URL:https://gard-nature.com/event/sortie-botanique-a-saint-etienne-de-lolm/
CATEGORIES:Sorties 2024,Sorties Gard nature
END:VEVENT
END:VCALENDAR