BEGIN:VCALENDAR
VERSION:2.0
PRODID:-//Gard Nature - ECPv5.2.1//NONSGML v1.0//EN
CALSCALE:GREGORIAN
METHOD:PUBLISH
X-WR-CALNAME:Gard Nature
X-ORIGINAL-URL:https://gard-nature.com
X-WR-CALDESC:évènements pour Gard Nature
BEGIN:VTIMEZONE
TZID:Europe/Paris
BEGIN:DAYLIGHT
TZOFFSETFROM:+0100
TZOFFSETTO:+0200
TZNAME:CEST
DTSTART:20240331T010000
END:DAYLIGHT
BEGIN:STANDARD
TZOFFSETFROM:+0200
TZOFFSETTO:+0100
TZNAME:CET
DTSTART:20241027T010000
END:STANDARD
END:VTIMEZONE
BEGIN:VEVENT
DTSTART;TZID=Europe/Paris:20241020T140000
DTEND;TZID=Europe/Paris:20241020T180000
DTSTAMP:20260424T134708
CREATED:20240929T141707Z
LAST-MODIFIED:20241010T172051Z
UID:18496-1729432800-1729447200@gard-nature.com
SUMMARY:Assemblée Générale 2024 à 14h à Beaucaire
DESCRIPTION:Avec l’automne arrive le temps de nous retrouver au moment de l’Assemblée Générale de notre association. \nVous êtes donc conviés à la XXIème AG de Gard Nature qui se tiendra dimanche 20 octobre 2024 au Mas du Boschet Neuf à Beaucaire\, à 14h.  \nOrdre du jour :\n– le bilan moral par la Présidente ;\n– le bilan financier par les Trésoriers ;\n– un bilan d’activité à plusieurs voix. \nL’Assemblée Générale est aussi l’occasion d’accueillir de nouveaux adhérents\, et\, parmi les adhérents\, de nouveaux Administrateurs ! Si vous êtes tentés de participer un peu plus à l’organisation de la vie associative\, c’est le bon moment ! \nVous pouvez tous arriver plus tôt\, à partir de 11h du matin\, avec un pique-nique\, pour un moment informel de rencontres et discussions. \nNous clôturerons l’AG avec un goûter offert par les Administrateurs et l’association ! \nA très bientôt\, \nPour le Conseil d’Administration\nCharlotte Herry\,\nPrésidente de Gard Nature
URL:https://gard-nature.com/event/assemblee-generale-2024/
LOCATION:Mas du Boschet\, 1059c\, chemin du mas du consul\, Beaucaire\, 30300\, France
CATEGORIES:Sorties 2024,Sorties Gard nature
END:VEVENT
END:VCALENDAR