BEGIN:VCALENDAR
VERSION:2.0
PRODID:-//Gard Nature - ECPv5.2.1//NONSGML v1.0//EN
CALSCALE:GREGORIAN
METHOD:PUBLISH
X-WR-CALNAME:Gard Nature
X-ORIGINAL-URL:https://gard-nature.com
X-WR-CALDESC:évènements pour Gard Nature
BEGIN:VTIMEZONE
TZID:Europe/Paris
BEGIN:DAYLIGHT
TZOFFSETFROM:+0100
TZOFFSETTO:+0200
TZNAME:CEST
DTSTART:20240331T010000
END:DAYLIGHT
BEGIN:STANDARD
TZOFFSETFROM:+0200
TZOFFSETTO:+0100
TZNAME:CET
DTSTART:20241027T010000
END:STANDARD
END:VTIMEZONE
BEGIN:VEVENT
DTSTART;TZID=Europe/Paris:20241018T180000
DTEND;TZID=Europe/Paris:20241018T210000
DTSTAMP:20260424T123153
CREATED:20240908T174409Z
LAST-MODIFIED:20240908T174409Z
UID:18483-1729274400-1729285200@gard-nature.com
SUMMARY:Conférence sur les papillons à Jonquières-Saint-Vincent
DESCRIPTION:Conférence sur les papillons\, à l’invitation de l’association citoyenne de Jonquières-Saint-Vincent  à 18h le vendredi 18 octobre. \nOn parlera de papillons\, bien sûr\, d’étude des papillons\, d’occupation des sols\, d’aménagement du territoire et de protection de la nature. Animé par Jean-Laurent Hentz. \nA partir de 18h au centre socio-culturel. \nAuberge espagnole à l’issue de la présentation.
URL:https://gard-nature.com/event/conference-sur-les-papillons-a-jonquieres-saint-vincent/
CATEGORIES:Sorties 2024,Sorties Gard nature
END:VEVENT
END:VCALENDAR