BEGIN:VCALENDAR
VERSION:2.0
PRODID:-//Gard Nature - ECPv5.2.1//NONSGML v1.0//EN
CALSCALE:GREGORIAN
METHOD:PUBLISH
X-WR-CALNAME:Gard Nature
X-ORIGINAL-URL:https://gard-nature.com
X-WR-CALDESC:évènements pour Gard Nature
BEGIN:VTIMEZONE
TZID:Europe/Paris
BEGIN:DAYLIGHT
TZOFFSETFROM:+0100
TZOFFSETTO:+0200
TZNAME:CEST
DTSTART:20240331T010000
END:DAYLIGHT
BEGIN:STANDARD
TZOFFSETFROM:+0200
TZOFFSETTO:+0100
TZNAME:CET
DTSTART:20241027T010000
END:STANDARD
END:VTIMEZONE
BEGIN:VEVENT
DTSTART;TZID=Europe/Paris:20240501T100000
DTEND;TZID=Europe/Paris:20240501T200000
DTSTAMP:20260424T200415
CREATED:20240320T184213Z
LAST-MODIFIED:20240501T151042Z
UID:18225-1714557600-1714593600@gard-nature.com
SUMMARY:REPORTE au dimanche 12 Mai-Fête de l’Étang à La-Capelle-et-Masmolène
DESCRIPTION:Évènement reporté au dimanche 12 mai. \nCe mercredi 1er mai\, Gard Nature tiendra un stand lors de la 2ème Fête de l’Étang et de la Biodiversité organisée par le Syndicat Mixte des Gorges du Gardon et qui se tiendra à l’Etang de La Capelle. \nDe 10h à 20h\, en plus des animations (artisans créateurs\, abrivados\, plantation de l’arbre de mai\, etc)\, une buvette\, des food-trucks\, des animations musicales\, un marché producteurs sont prévus\, faisant de cet évènement un moment convivial et festif.
URL:https://gard-nature.com/event/fete-de-letang-a-la-capelle-et-masmolene/
CATEGORIES:Sorties 2024,Sorties Gard nature
ORGANIZER;CN="Lou-Baptiste%20Reboul":MAILTO:loubaptiste.reboul@gmail.com
END:VEVENT
END:VCALENDAR