BEGIN:VCALENDAR
VERSION:2.0
PRODID:-//Gard Nature - ECPv5.2.1//NONSGML v1.0//EN
CALSCALE:GREGORIAN
METHOD:PUBLISH
X-WR-CALNAME:Gard Nature
X-ORIGINAL-URL:https://gard-nature.com
X-WR-CALDESC:évènements pour Gard Nature
BEGIN:VTIMEZONE
TZID:Europe/Paris
BEGIN:DAYLIGHT
TZOFFSETFROM:+0100
TZOFFSETTO:+0200
TZNAME:CEST
DTSTART:20250330T010000
END:DAYLIGHT
BEGIN:STANDARD
TZOFFSETFROM:+0200
TZOFFSETTO:+0100
TZNAME:CET
DTSTART:20251026T010000
END:STANDARD
END:VTIMEZONE
BEGIN:VEVENT
DTSTART;TZID=Europe/Paris:20250928T093000
DTEND;TZID=Europe/Paris:20250928T170000
DTSTAMP:20260423T211059
CREATED:20250730T204206Z
LAST-MODIFIED:20250730T204206Z
UID:18991-1759051800-1759078800@gard-nature.com
SUMMARY:Fête des abeilles à Nages-et-Solorgues
DESCRIPTION:Ce dimanche 28 septembre Gard Nature tiendra un stand à la fête des abeilles de Nages-et-Solorgues. \nPlus d’info avec Jean-Laurent à venir.
URL:https://gard-nature.com/event/fete-des-abeilles-a-nages-et-solorgues/
CATEGORIES:Sorties 2025,Sorties Gard nature
END:VEVENT
END:VCALENDAR