BEGIN:VCALENDAR
VERSION:2.0
PRODID:-//Gard Nature - ECPv5.2.1//NONSGML v1.0//EN
CALSCALE:GREGORIAN
METHOD:PUBLISH
X-WR-CALNAME:Gard Nature
X-ORIGINAL-URL:https://gard-nature.com
X-WR-CALDESC:évènements pour Gard Nature
BEGIN:VTIMEZONE
TZID:Europe/Paris
BEGIN:DAYLIGHT
TZOFFSETFROM:+0100
TZOFFSETTO:+0200
TZNAME:CEST
DTSTART:20250330T010000
END:DAYLIGHT
BEGIN:STANDARD
TZOFFSETFROM:+0200
TZOFFSETTO:+0100
TZNAME:CET
DTSTART:20251026T010000
END:STANDARD
END:VTIMEZONE
BEGIN:VEVENT
DTSTART;TZID=Europe/Paris:20251001T100000
DTEND;TZID=Europe/Paris:20251001T170000
DTSTAMP:20260423T181539
CREATED:20250901T175302Z
LAST-MODIFIED:20250901T175302Z
UID:19005-1759312800-1759338000@gard-nature.com
SUMMARY:Gard Nature à la Semaine du Développement Durable à Nîmes
DESCRIPTION:Ce mercredi 1er octobre\, Gard Nature tiendra un stand à la Semaine du Développement Durable à Nîmes\, sur l’Esplanade Charles de Gaulle\, de 10h à 17h. \n 
URL:https://gard-nature.com/event/gard-nature-a-la-semaine-du-developpement-durable-a-nimes/
CATEGORIES:Sorties 2025,Sorties Gard nature
ORGANIZER;CN="Lou-Baptiste%20Reboul":MAILTO:loubaptiste.reboul@gmail.com
END:VEVENT
END:VCALENDAR