BEGIN:VCALENDAR
VERSION:2.0
PRODID:-//Gard Nature - ECPv5.2.1//NONSGML v1.0//EN
CALSCALE:GREGORIAN
METHOD:PUBLISH
X-WR-CALNAME:Gard Nature
X-ORIGINAL-URL:https://gard-nature.com
X-WR-CALDESC:évènements pour Gard Nature
BEGIN:VTIMEZONE
TZID:Europe/Paris
BEGIN:DAYLIGHT
TZOFFSETFROM:+0100
TZOFFSETTO:+0200
TZNAME:CEST
DTSTART:20250330T010000
END:DAYLIGHT
BEGIN:STANDARD
TZOFFSETFROM:+0200
TZOFFSETTO:+0100
TZNAME:CET
DTSTART:20251026T010000
END:STANDARD
END:VTIMEZONE
BEGIN:VEVENT
DTSTART;TZID=Europe/Paris:20250920T093000
DTEND;TZID=Europe/Paris:20250920T123000
DTSTAMP:20260423T212010
CREATED:20250909T201209Z
LAST-MODIFIED:20250909T201747Z
UID:19007-1758360600-1758371400@gard-nature.com
SUMMARY:Insectes pollinisateurs à Ponteils-et-Brésis
DESCRIPTION:Le samedi 20 septembre\, de 9h30 à 12h30\, aura lieu à Ponteils-et-Brésis une animation sur les insectes pollinisateurs. Venez découvrir l’incroyable diversité d’insectes pollinisateurs des Cévennes. En collaboration avec l’Association Gard Nature. \nA partir de 6 ans. Inscription obligatoire au 04 66 60 20 64 ou à natura2000hauteceze@shvc.fr.
URL:https://gard-nature.com/event/insectes-pollinisateurs-a-ponteils-et-bresis/
CATEGORIES:Sorties 2025,Sorties Gard nature
ORGANIZER;CN="Lou-Baptiste%20Reboul":MAILTO:loubaptiste.reboul@gmail.com
END:VEVENT
END:VCALENDAR