BEGIN:VCALENDAR
VERSION:2.0
PRODID:-//Gard Nature - ECPv5.2.1//NONSGML v1.0//EN
CALSCALE:GREGORIAN
METHOD:PUBLISH
X-WR-CALNAME:Gard Nature
X-ORIGINAL-URL:https://gard-nature.com
X-WR-CALDESC:évènements pour Gard Nature
BEGIN:VTIMEZONE
TZID:Europe/Paris
BEGIN:DAYLIGHT
TZOFFSETFROM:+0100
TZOFFSETTO:+0200
TZNAME:CEST
DTSTART:20240331T010000
END:DAYLIGHT
BEGIN:STANDARD
TZOFFSETFROM:+0200
TZOFFSETTO:+0100
TZNAME:CET
DTSTART:20241027T010000
END:STANDARD
END:VTIMEZONE
BEGIN:VEVENT
DTSTART;TZID=Europe/Paris:20240511T100000
DTEND;TZID=Europe/Paris:20240511T230000
DTSTAMP:20260424T200448
CREATED:20240314T141634Z
LAST-MODIFIED:20240314T141634Z
UID:18210-1715421600-1715468400@gard-nature.com
SUMMARY:Journée (et soirée) Papillons à Sauve
DESCRIPTION:Journée de rencontre entre Gard Nature et la SHHNH (Société d’Horticulture et d’Histoire Naturelle de l’Hérault) ce samedi 11 mai à Sauve. \nAu programme\, une sortie papillons suivie d’une soirée de découverte des papillons de nuit. \nPlus de renseignements sur le contenu et le lieu de rendez-vous à venir.
URL:https://gard-nature.com/event/journee-et-soiree-papillons-a-sauve/
CATEGORIES:Sorties 2024,Sorties Gard nature
END:VEVENT
END:VCALENDAR