BEGIN:VCALENDAR
VERSION:2.0
PRODID:-//Gard Nature - ECPv5.2.1//NONSGML v1.0//EN
CALSCALE:GREGORIAN
METHOD:PUBLISH
X-WR-CALNAME:Gard Nature
X-ORIGINAL-URL:https://gard-nature.com
X-WR-CALDESC:évènements pour Gard Nature
BEGIN:VTIMEZONE
TZID:Europe/Paris
BEGIN:DAYLIGHT
TZOFFSETFROM:+0100
TZOFFSETTO:+0200
TZNAME:CEST
DTSTART:20240331T010000
END:DAYLIGHT
BEGIN:STANDARD
TZOFFSETFROM:+0200
TZOFFSETTO:+0100
TZNAME:CET
DTSTART:20241027T010000
END:STANDARD
END:VTIMEZONE
BEGIN:VEVENT
DTSTART;TZID=Europe/Paris:20240504T100000
DTEND;TZID=Europe/Paris:20240504T180000
DTSTAMP:20260424T212701
CREATED:20240311T203506Z
LAST-MODIFIED:20240311T203506Z
UID:18208-1714816800-1714845600@gard-nature.com
SUMMARY:Journée nature et ruralité à Alès
DESCRIPTION:La Fédération de Pêche du Gard organise la Journée Nature et Ruralité\, le samedi 4 mai de 10h à 18h au Pont Neuf Rive Droite à Alès. \nGard Nature sera présent avec un stand. \n 
URL:https://gard-nature.com/event/journee-nature-et-ruralite-a-ales/
CATEGORIES:Sorties 2024,Sorties Gard nature
ORGANIZER;CN="Lou-Baptiste%20Reboul":MAILTO:loubaptiste.reboul@gmail.com
END:VEVENT
END:VCALENDAR