BEGIN:VCALENDAR
VERSION:2.0
PRODID:-//Gard Nature - ECPv5.2.1//NONSGML v1.0//EN
CALSCALE:GREGORIAN
METHOD:PUBLISH
X-WR-CALNAME:Gard Nature
X-ORIGINAL-URL:https://gard-nature.com
X-WR-CALDESC:évènements pour Gard Nature
BEGIN:VTIMEZONE
TZID:Europe/Paris
BEGIN:DAYLIGHT
TZOFFSETFROM:+0100
TZOFFSETTO:+0200
TZNAME:CEST
DTSTART:20250330T010000
END:DAYLIGHT
BEGIN:STANDARD
TZOFFSETFROM:+0200
TZOFFSETTO:+0100
TZNAME:CET
DTSTART:20251026T010000
END:STANDARD
END:VTIMEZONE
BEGIN:VEVENT
DTSTART;TZID=Europe/Paris:20250906T100000
DTEND;TZID=Europe/Paris:20250907T170000
DTSTAMP:20260423T194800
CREATED:20250831T071141Z
LAST-MODIFIED:20250831T071228Z
UID:19001-1757152800-1757264400@gard-nature.com
SUMMARY:Journée ornitho au phare de la Gacholle
DESCRIPTION:Le week-end du samedi 6 et dimanche 7 septembre\, Maryvonne et Hervé sont de permanence au phare de la Gacholle. \nIls nous proposent de les retrouver pour une journée au grand air à observer les oiseaux sur ce site privilégié du bout de la Camargue. \nEn prévenant Maryvonne au 06 60 40 15 74\, vous pouvez venir\, soit le samedi\, soit le dimanche\, à partir de 10h sur le parking de la Comtesse (1km avant le phare). N’oubliez pas le pique-nique ! \nVous pouvez aussi joindre Laurent au 06 52 97 27 33 pour plus de renseignements.
URL:https://gard-nature.com/event/journees-ornitho-au-phare-de-la-gacholle/
LOCATION:Phare de la Gacholle\, Phare de le Gacholle\, Arles\, 13129\, France
CATEGORIES:Sorties 2025,Sorties Gard nature
END:VEVENT
END:VCALENDAR