BEGIN:VCALENDAR
VERSION:2.0
PRODID:-//Gard Nature - ECPv5.2.1//NONSGML v1.0//EN
CALSCALE:GREGORIAN
METHOD:PUBLISH
X-WR-CALNAME:Gard Nature
X-ORIGINAL-URL:https://gard-nature.com
X-WR-CALDESC:évènements pour Gard Nature
BEGIN:VTIMEZONE
TZID:Europe/Paris
BEGIN:DAYLIGHT
TZOFFSETFROM:+0100
TZOFFSETTO:+0200
TZNAME:CEST
DTSTART:20250330T010000
END:DAYLIGHT
BEGIN:STANDARD
TZOFFSETFROM:+0200
TZOFFSETTO:+0100
TZNAME:CET
DTSTART:20251026T010000
END:STANDARD
END:VTIMEZONE
BEGIN:VEVENT
DTSTART;TZID=Europe/Paris:20250928T100000
DTEND;TZID=Europe/Paris:20250928T163000
DTSTAMP:20260423T194259
CREATED:20250730T204619Z
LAST-MODIFIED:20250730T204619Z
UID:18993-1759053600-1759077000@gard-nature.com
SUMMARY:Lancement de l'ABC de la commune du Pin.
DESCRIPTION:Ce dimanche 28 septembre Gard Nature tiendra également un stand pour le lancement de l’ABC (Atlas de la biodiversité communale) de la commune du Pin. \nPlus d’info avec Lou-Baptiste à venir
URL:https://gard-nature.com/event/lancement-de-labc-de-la-commune-du-pin/
CATEGORIES:Sorties 2025,Sorties Gard nature
ORGANIZER;CN="Lou-Baptiste%20Reboul":MAILTO:loubaptiste.reboul@gmail.com
END:VEVENT
END:VCALENDAR