BEGIN:VCALENDAR
VERSION:2.0
PRODID:-//Gard Nature - ECPv5.2.1//NONSGML v1.0//EN
CALSCALE:GREGORIAN
METHOD:PUBLISH
X-WR-CALNAME:Gard Nature
X-ORIGINAL-URL:https://gard-nature.com
X-WR-CALDESC:évènements pour Gard Nature
BEGIN:VTIMEZONE
TZID:Europe/Paris
BEGIN:DAYLIGHT
TZOFFSETFROM:+0100
TZOFFSETTO:+0200
TZNAME:CEST
DTSTART:20240331T010000
END:DAYLIGHT
BEGIN:STANDARD
TZOFFSETFROM:+0200
TZOFFSETTO:+0100
TZNAME:CET
DTSTART:20241027T010000
END:STANDARD
END:VTIMEZONE
BEGIN:VEVENT
DTSTART;TZID=Europe/Paris:20240619T110000
DTEND;TZID=Europe/Paris:20240619T170000
DTSTAMP:20260424T184546
CREATED:20240407T094812Z
LAST-MODIFIED:20240515T141324Z
UID:18269-1718794800-1718816400@gard-nature.com
SUMMARY:Festival Eco-citoyen en Cévennes
DESCRIPTION:Nous participerons au Festival Eco-citoyen en Cévennes le mercredi 19 juin à Alès : tenue d’un stand de Gard Nature et balade à la recherche des petites bêtes en début d’après midi. \n\n 
URL:https://gard-nature.com/event/lepisortie-a-meynes/
CATEGORIES:Sorties 2024,Sorties Gard nature
ORGANIZER;CN="Lou-Baptiste%20Reboul":MAILTO:loubaptiste.reboul@gmail.com
END:VEVENT
END:VCALENDAR