BEGIN:VCALENDAR
VERSION:2.0
PRODID:-//Gard Nature - ECPv5.2.1//NONSGML v1.0//EN
CALSCALE:GREGORIAN
METHOD:PUBLISH
X-WR-CALNAME:Gard Nature
X-ORIGINAL-URL:https://gard-nature.com
X-WR-CALDESC:évènements pour Gard Nature
BEGIN:VTIMEZONE
TZID:Europe/Paris
BEGIN:DAYLIGHT
TZOFFSETFROM:+0100
TZOFFSETTO:+0200
TZNAME:CEST
DTSTART:20240331T010000
END:DAYLIGHT
BEGIN:STANDARD
TZOFFSETFROM:+0200
TZOFFSETTO:+0100
TZNAME:CET
DTSTART:20241027T010000
END:STANDARD
END:VTIMEZONE
BEGIN:VEVENT
DTSTART;TZID=Europe/Paris:20240508T093000
DTEND;TZID=Europe/Paris:20240508T163000
DTSTAMP:20260424T212233
CREATED:20240330T184755Z
LAST-MODIFIED:20240501T153205Z
UID:18238-1715160600-1715185800@gard-nature.com
SUMMARY:Lépi'Sortie à Rochegude le matin et Rivières l'après midi
DESCRIPTION:Dans le cadre des « Lépi’Sorties » destinées à enrichir notre « Atlas des papillons de jour et Zygènes du Gard »\, Lou-Baptiste nous propose ce mercredi 8 mai une sortie de prospection à Rochegude le matin et à Rivières l’après midi. \nRendez-vous\, avec le pique-nique\, à 9h30 sur le parking à l’entrée du village de Rochegude (marqué la Guinguette de Rochegude sur Google maps)\n \nCoordonnées du lieu de rendez-vous (via Google Maps) : 44.238922\, 4.294633 \nChacun peut venir pour la journée ou juste une demi-journée. \nPour ceux qui ne pourrait venir que l’après midi\, rendez-vous directement à Rivières à 13h30 sur la place du village (point GPS : 44.225901\, 4.275133). \nPour plus de renseignements\, vous pouvez contacter Lou-Baptiste au 06 18 03 92 33 \nCoordination de l’Atlas des papillons de jour et zygènes du Gard\nhttp://naturedugard.org/atlaspapillons30
URL:https://gard-nature.com/event/lepisortie-a-rochegude/
CATEGORIES:Sorties 2024,Sorties Gard nature
ORGANIZER;CN="Lou-Baptiste%20Reboul":MAILTO:loubaptiste.reboul@gmail.com
END:VEVENT
END:VCALENDAR