BEGIN:VCALENDAR
VERSION:2.0
PRODID:-//Gard Nature - ECPv5.2.1//NONSGML v1.0//EN
CALSCALE:GREGORIAN
METHOD:PUBLISH
X-WR-CALNAME:Gard Nature
X-ORIGINAL-URL:https://gard-nature.com
X-WR-CALDESC:évènements pour Gard Nature
BEGIN:VTIMEZONE
TZID:Europe/Paris
BEGIN:DAYLIGHT
TZOFFSETFROM:+0100
TZOFFSETTO:+0200
TZNAME:CEST
DTSTART:20240331T010000
END:DAYLIGHT
BEGIN:STANDARD
TZOFFSETFROM:+0200
TZOFFSETTO:+0100
TZNAME:CET
DTSTART:20241027T010000
END:STANDARD
END:VTIMEZONE
BEGIN:VEVENT
DTSTART;TZID=Europe/Paris:20240925T093000
DTEND;TZID=Europe/Paris:20240925T163000
DTSTAMP:20260424T135940
CREATED:20240827T171832Z
LAST-MODIFIED:20240827T171832Z
UID:18469-1727256600-1727281800@gard-nature.com
SUMMARY:Lépi’Sortie à Saint-Bonnet-du-Gard
DESCRIPTION:Dans le cadre des « Lépi’Sorties » destinées à enrichir notre « Atlas des papillons de jour et Zygènes du Gard »\, Lou-Baptiste nous propose ce mercredi 25 septembre une sortie de prospection à Saint-Bonnet-du-Gard.\n\n\n\n\n\n\n\n\n\n\n\n\n\n\n\n\n\n\n\n\n\n\n\n\n\n\n\n\n\n\n\n\n\n\n\n\n\n\n\n\n\n\n\n\n\n\n\n\n\n\nRendez-vous\, avec le pique-nique\, à 9h30 près du cimetière.\n \nCoordonnées du lieu de rendez-vous (via Google Maps) : 43.926248\, 4.547317 \nPour plus de renseignements\, vous pouvez contacter Lou-Baptiste au 06 18 03 92 33 \nCoordination de l’Atlas des papillons de jour et zygènes du Gard\nhttp://naturedugard.org/atlaspapillons30
URL:https://gard-nature.com/event/lepisortie-a-saint-bonnet-du-gard/
CATEGORIES:Sorties 2024,Sorties Gard nature
ORGANIZER;CN="Lou-Baptiste%20Reboul":MAILTO:loubaptiste.reboul@gmail.com
END:VEVENT
END:VCALENDAR