BEGIN:VCALENDAR
VERSION:2.0
PRODID:-//Gard Nature - ECPv5.2.1//NONSGML v1.0//EN
CALSCALE:GREGORIAN
METHOD:PUBLISH
X-WR-CALNAME:Gard Nature
X-ORIGINAL-URL:https://gard-nature.com
X-WR-CALDESC:évènements pour Gard Nature
BEGIN:VTIMEZONE
TZID:Europe/Paris
BEGIN:DAYLIGHT
TZOFFSETFROM:+0100
TZOFFSETTO:+0200
TZNAME:CEST
DTSTART:20240331T010000
END:DAYLIGHT
BEGIN:STANDARD
TZOFFSETFROM:+0200
TZOFFSETTO:+0100
TZNAME:CET
DTSTART:20241027T010000
END:STANDARD
END:VTIMEZONE
BEGIN:VEVENT
DTSTART;TZID=Europe/Paris:20240719T083000
DTEND;TZID=Europe/Paris:20240719T163000
DTSTAMP:20260424T170829
CREATED:20240617T052127Z
LAST-MODIFIED:20240617T052127Z
UID:18347-1721377800-1721406600@gard-nature.com
SUMMARY:Lépi'Sortie à Saint-Gervasy
DESCRIPTION:Dans le cadre des « Lépi’Sorties » destinées à enrichir notre « Atlas des papillons de jour et Zygènes du Gard »\, Lou-Baptiste nous propose ce vendredi 19 juillet une sortie de prospection à Saint-Gervasy.\n\n\n\n\n\n\n\n\n\n\n\n\n\n\n\n\n\n\n\n\n\n\n\n\n\n\n\n\n\n\n\n\n\n\n\n\n\n\nRendez-vous\, avec le pique-nique\, à 8h30 sur un parking situé sur la D3A (vers la pharmacie\, le Vival etc)\n \nCoordonnées du lieu de rendez-vous (via Google Maps) : 43.876107\, 4.466788 \nPour plus de renseignements\, vous pouvez contacter Lou-Baptiste au 06 18 03 92 33 \nCoordination de l’Atlas des papillons de jour et zygènes du Gard\nhttp://naturedugard.org/atlaspapillons30
URL:https://gard-nature.com/event/lepisortie-a-saint-gervasy/
CATEGORIES:Sorties 2024,Sorties Gard nature
ORGANIZER;CN="Lou-Baptiste%20Reboul":MAILTO:loubaptiste.reboul@gmail.com
END:VEVENT
END:VCALENDAR