BEGIN:VCALENDAR
VERSION:2.0
PRODID:-//Gard Nature - ECPv5.2.1//NONSGML v1.0//EN
CALSCALE:GREGORIAN
METHOD:PUBLISH
X-WR-CALNAME:Gard Nature
X-ORIGINAL-URL:https://gard-nature.com
X-WR-CALDESC:évènements pour Gard Nature
BEGIN:VTIMEZONE
TZID:Europe/Paris
BEGIN:DAYLIGHT
TZOFFSETFROM:+0100
TZOFFSETTO:+0200
TZNAME:CEST
DTSTART:20240331T010000
END:DAYLIGHT
BEGIN:STANDARD
TZOFFSETFROM:+0200
TZOFFSETTO:+0100
TZNAME:CET
DTSTART:20241027T010000
END:STANDARD
END:VTIMEZONE
BEGIN:VEVENT
DTSTART;TZID=Europe/Paris:20240429T093000
DTEND;TZID=Europe/Paris:20240429T163000
DTSTAMP:20260424T200645
CREATED:20240311T203013Z
LAST-MODIFIED:20240501T150248Z
UID:18206-1714383000-1714408200@gard-nature.com
SUMMARY:REPORTEE au vendredi 28 juin-Lépi'Sortie à St Privat des Vieux
DESCRIPTION:Sortie annulée pour cause de mauvais temps et reportée au vendredi 28 juin. \nDans le cadre des « Lépi’Sorties » destinées à enrichir notre « Atlas des papillons de jour et Zygènes du Gard »\, Lou-Baptiste nous propose ce lundi 29 avril une sortie de prospection à St Privat des Vieux. \nRendez-vous\, avec le pique-nique\, à 9h30 sur le parking situé Chemin des Sports près des courts de tennis à St Privat des Vieux. \nCoordonnées du lieu de rendez-vous (via Google Maps) : 44.138742\, 4.134368\n \nPour plus de renseignements\, vous pouvez contacter Lou-Baptiste au 06 18 03 92 33 \nCoordination de l’Atlas des papillons de jour et zygènes du Gard\nhttp://naturedugard.org/atlaspapillons30
URL:https://gard-nature.com/event/lepisortie-a-st-privat-des-vieux/
CATEGORIES:Sorties 2024,Sorties Gard nature
ORGANIZER;CN="Lou-Baptiste%20Reboul":MAILTO:loubaptiste.reboul@gmail.com
END:VEVENT
END:VCALENDAR