BEGIN:VCALENDAR
VERSION:2.0
PRODID:-//Gard Nature - ECPv5.2.1//NONSGML v1.0//EN
CALSCALE:GREGORIAN
METHOD:PUBLISH
X-WR-CALNAME:Gard Nature
X-ORIGINAL-URL:https://gard-nature.com
X-WR-CALDESC:évènements pour Gard Nature
BEGIN:VTIMEZONE
TZID:Europe/Paris
BEGIN:DAYLIGHT
TZOFFSETFROM:+0100
TZOFFSETTO:+0200
TZNAME:CEST
DTSTART:20230326T010000
END:DAYLIGHT
BEGIN:STANDARD
TZOFFSETFROM:+0200
TZOFFSETTO:+0100
TZNAME:CET
DTSTART:20231029T010000
END:STANDARD
END:VTIMEZONE
BEGIN:VEVENT
DTSTART;TZID=Europe/Paris:20231123T193000
DTEND;TZID=Europe/Paris:20231123T210000
DTSTAMP:20260426T044044
CREATED:20231010T181508Z
LAST-MODIFIED:20231010T181508Z
UID:18049-1700767800-1700773200@gard-nature.com
SUMMARY:Les papillons\, présentés au Naturoptère de  Sérignan-du-Comtat
DESCRIPTION:Le jeudi 23 novembre à 19h30 : les papillons\, présentés au Naturoptère de\nSérignan-du-Comtat\, par Jean-Laurent Hentz. \n« Les papillons : vous connaissez ?\nPour être un papillon : soigner son côté pile\, entretenir son côté face\, savoir tirer\nla langue\, ramper comme une larve ou voler\, léger\, dans les cieux\, jouer à cache-\ncache\, à saute-mouton\, aimer le soleil éclatant comme la face obscure des forêts…\nVenez découvrir ces petits enchanteurs (en apportant deux ou trois photos…). »
URL:https://gard-nature.com/event/les-papillons-presentes-au-naturoptere-de-serignan-du-comtat/
CATEGORIES:Séance d'identification
END:VEVENT
END:VCALENDAR