BEGIN:VCALENDAR
VERSION:2.0
PRODID:-//Gard Nature - ECPv5.2.1//NONSGML v1.0//EN
CALSCALE:GREGORIAN
METHOD:PUBLISH
X-WR-CALNAME:Gard Nature
X-ORIGINAL-URL:https://gard-nature.com
X-WR-CALDESC:évènements pour Gard Nature
BEGIN:VTIMEZONE
TZID:Europe/Paris
BEGIN:DAYLIGHT
TZOFFSETFROM:+0100
TZOFFSETTO:+0200
TZNAME:CEST
DTSTART:20240331T010000
END:DAYLIGHT
BEGIN:STANDARD
TZOFFSETFROM:+0200
TZOFFSETTO:+0100
TZNAME:CET
DTSTART:20241027T010000
END:STANDARD
END:VTIMEZONE
BEGIN:VEVENT
DTSTART;TZID=Europe/Paris:20240915T100000
DTEND;TZID=Europe/Paris:20240915T170000
DTSTAMP:20260424T135624
CREATED:20240908T173950Z
LAST-MODIFIED:20240908T173950Z
UID:18481-1726394400-1726419600@gard-nature.com
SUMMARY:Rencontre avec l'association de la Combe Chazet\, aux Angles.
DESCRIPTION:Dimanche 15 septembre aux Angles\, rencontre avec l’association de la Combe Chazet avec au programme  : \n10h-12h : découverte en petit comité de la garrigue (et de la zone plus humide en bas liée à la garrigue par un corridor).\n12h : pique-Nique\nà partir de 14h : découverte familiale de la Faune et la Flore de la Combe Chazet\n\nN’hésitez pas à nous joindre par tél :\nAurélie TETOT (Vice Présidente) : 0677490141\nMarie Hélène AUBARD (Secrétaire) : 0628431289\nPatrick Bruneteaux (Vice Présidente) : 0624610591\nleaamisdelacombechazet@gmail.com \nLe lieu de rendez-vous arrivera dans la semaine…
URL:https://gard-nature.com/event/rencontre-avec-lassociation-de-la-combe-chazet-aux-angles/
CATEGORIES:Sorties 2024,Sorties Gard nature
END:VEVENT
END:VCALENDAR