BEGIN:VCALENDAR
VERSION:2.0
PRODID:-//Gard Nature - ECPv5.2.1//NONSGML v1.0//EN
CALSCALE:GREGORIAN
METHOD:PUBLISH
X-WR-CALNAME:Gard Nature
X-ORIGINAL-URL:https://gard-nature.com
X-WR-CALDESC:évènements pour Gard Nature
BEGIN:VTIMEZONE
TZID:Europe/Paris
BEGIN:DAYLIGHT
TZOFFSETFROM:+0100
TZOFFSETTO:+0200
TZNAME:CEST
DTSTART:20250330T010000
END:DAYLIGHT
BEGIN:STANDARD
TZOFFSETFROM:+0200
TZOFFSETTO:+0100
TZNAME:CET
DTSTART:20251026T010000
END:STANDARD
END:VTIMEZONE
BEGIN:VEVENT
DTSTART;TZID=Europe/Paris:20251018T093000
DTEND;TZID=Europe/Paris:20251019T170000
DTSTAMP:20260423T194546
CREATED:20250730T204946Z
LAST-MODIFIED:20250730T204946Z
UID:18995-1760779800-1760893200@gard-nature.com
SUMMARY:Reptiliades à Nîmes.
DESCRIPTION:Ces samedi 18 et dimanche 19 octobre Gard\, Nature tiendra un stand aux Reptiliades à Nîmes.\n\n\n\nPlus d’info avec Lou-Baptiste à venir
URL:https://gard-nature.com/event/reptiliades-a-nimes/
CATEGORIES:Sorties 2025,Sorties Gard nature
ORGANIZER;CN="Lou-Baptiste%20Reboul":MAILTO:loubaptiste.reboul@gmail.com
END:VEVENT
END:VCALENDAR