BEGIN:VCALENDAR
VERSION:2.0
PRODID:-//Gard Nature - ECPv5.2.1//NONSGML v1.0//EN
CALSCALE:GREGORIAN
METHOD:PUBLISH
X-WR-CALNAME:Gard Nature
X-ORIGINAL-URL:https://gard-nature.com
X-WR-CALDESC:évènements pour Gard Nature
BEGIN:VTIMEZONE
TZID:Europe/Paris
BEGIN:DAYLIGHT
TZOFFSETFROM:+0100
TZOFFSETTO:+0200
TZNAME:CEST
DTSTART:20260329T010000
END:DAYLIGHT
BEGIN:STANDARD
TZOFFSETFROM:+0200
TZOFFSETTO:+0100
TZNAME:CET
DTSTART:20261025T010000
END:STANDARD
END:VTIMEZONE
BEGIN:VEVENT
DTSTART;TZID=Europe/Paris:20260118T100000
DTEND;TZID=Europe/Paris:20260118T170000
DTSTAMP:20260423T134006
CREATED:20260106T172600Z
LAST-MODIFIED:20260106T172600Z
UID:19096-1768730400-1768755600@gard-nature.com
SUMMARY:Réunion Atlas Papillons du Gard
DESCRIPTION:La basse saison est bien installée et il est temps de rediscuter plus en profondeur de l’Atlas. Le but serait de faire une pré-rédaction de l’Atlas durant l’hiver\, pour en savoir plus sur ce qu’il va nous manquer comme informations. Mais au-delà du fond\, il faut aussi parler de la forme\, ce qu’on veut ou pas dans notre Atlas (les rubriques\, la composition etc…). \nPour ce faire\, Lou-Baptiste et Jean-Laurent vous proposent une journée de réunion de travail\, le dimanche 18 janvier au mas du Boschet\, où l’on pourra discuter de tout ça\, où vous pourrez ramener vos exemplaires d’Atlas (papillons\, ou même oiseaux\, en plus de ceux présent chez Jean-Laurent) et ainsi pouvoir les comparer\, s’en inspirer… Ce premier travail de brainstorming (ou remue-méninges en bon français) est important pour la suite des choses. \nQue vous ayez un œil aguerri à la reconnaissance des papillons ou non\, cela serait intéressant d’avoir des points de vue extérieurs\, plus grand public\, pour nous donner des idées ou points de vue sur « A quoi va ressembler cet Atlas à la fin? ». \nLe rendez-vous est donné pour 10h\, avec son pique-nique à prévoir.
URL:https://gard-nature.com/event/reunion-atlas-papillons-du-gard/
LOCATION:Mas du Boschet\, 1059c\, chemin du mas du consul\, Beaucaire\, 30300\, France
CATEGORIES:Sorties 2026,Sorties Gard nature
ORGANIZER;CN="Lou-Baptiste%20Reboul":MAILTO:loubaptiste.reboul@gmail.com
END:VEVENT
END:VCALENDAR