BEGIN:VCALENDAR
VERSION:2.0
PRODID:-//Gard Nature - ECPv5.2.1//NONSGML v1.0//EN
CALSCALE:GREGORIAN
METHOD:PUBLISH
X-WR-CALNAME:Gard Nature
X-ORIGINAL-URL:https://gard-nature.com
X-WR-CALDESC:évènements pour Gard Nature
BEGIN:VTIMEZONE
TZID:Europe/Paris
BEGIN:DAYLIGHT
TZOFFSETFROM:+0100
TZOFFSETTO:+0200
TZNAME:CEST
DTSTART:20210328T010000
END:DAYLIGHT
BEGIN:STANDARD
TZOFFSETFROM:+0200
TZOFFSETTO:+0100
TZNAME:CET
DTSTART:20211031T010000
END:STANDARD
END:VTIMEZONE
BEGIN:VEVENT
DTSTART;TZID=Europe/Paris:20210526T143000
DTEND;TZID=Europe/Paris:20210526T170000
DTSTAMP:20260423T133832
CREATED:20210523T081333Z
LAST-MODIFIED:20210525T060254Z
UID:16975-1622039400-1622048400@gard-nature.com
SUMMARY:Prospection naturaliste du côté de Vézénobres
DESCRIPTION:Un après midi de prospection naturaliste est organisé avec Jean-Laurent mercredi 26 mai du coté de Vézénobres. \nAvec nos amis de « St Hilaire Durable » nous allons en effet tenter un suivi de la biodiversité suite aux débroussaillements réalisés par RTE sous la ligne à Haute Tension du secteur. \n \nNous accueillerons avec plaisir ceux d’entre vous qui seraient intéressés ce mercredi 26 mai à 14h30. \nLe lieu de RDV est situé sur la D 116 entre Vézénobres et St Etienne de l’Olm juste avant le pont sur la Droude. Vous trouverez en pièce-jointe un plan un peu plus parlant. \nPour plus de précisions vous pouvez me joindre au 06 52 97 27 33. \nA bientôt j’espère (après la sortie de Jean-Pierre samedi\, nous essaierons d’organiser 1 ou 2 sorties avant l’été). \nLaurent
URL:https://gard-nature.com/event/sortie-a-vezenobres/
LOCATION:Vézénobres\, Vézénobres\, Vézénobres\, 30360\, France
CATEGORIES:Sorties 2021
ATTACH;FMTTYPE=image/jpeg:https://gard-nature.com/wp-content/uploads/2021/04/ab4.jpg
END:VEVENT
END:VCALENDAR