BEGIN:VCALENDAR
VERSION:2.0
PRODID:-//Gard Nature - ECPv5.2.1//NONSGML v1.0//EN
CALSCALE:GREGORIAN
METHOD:PUBLISH
X-WR-CALNAME:Gard Nature
X-ORIGINAL-URL:https://gard-nature.com
X-WR-CALDESC:évènements pour Gard Nature
BEGIN:VTIMEZONE
TZID:Europe/Paris
BEGIN:DAYLIGHT
TZOFFSETFROM:+0100
TZOFFSETTO:+0200
TZNAME:CEST
DTSTART:20240331T010000
END:DAYLIGHT
BEGIN:STANDARD
TZOFFSETFROM:+0200
TZOFFSETTO:+0100
TZNAME:CET
DTSTART:20241027T010000
END:STANDARD
END:VTIMEZONE
BEGIN:VEVENT
DTSTART;TZID=Europe/Paris:20240928T090000
DTEND;TZID=Europe/Paris:20240928T163000
DTSTAMP:20260424T135913
CREATED:20240908T164431Z
LAST-MODIFIED:20240908T164431Z
UID:18477-1727514000-1727541000@gard-nature.com
SUMMARY:Sortie botanique à Saint Hippolyte de Montaigu
DESCRIPTION:Philippe nous propose une sortie botanique samedi 28 septembre à Saint Hippolyte de Montaigu\, commune située quelques kms après Uzès en direction de Bagnols. \nLe rendez-vous est fixé à 9h sur le parking de la mairie de Saint Hippolyte de Montaigu (n’oubliez pas le pique-nique). \nPour plus de renseignements\, vous pouvez contacter Laurent au 06 52 97 27 33 ou par mail : laurent.iparraguirre@orange.fr
URL:https://gard-nature.com/event/sortie-botanique-a-saint-hippolyte-de-montaigu/
CATEGORIES:Sorties 2024,Sorties Gard nature
END:VEVENT
END:VCALENDAR