BEGIN:VCALENDAR
VERSION:2.0
PRODID:-//Gard Nature - ECPv5.2.1//NONSGML v1.0//EN
CALSCALE:GREGORIAN
METHOD:PUBLISH
X-WR-CALNAME:Gard Nature
X-ORIGINAL-URL:https://gard-nature.com
X-WR-CALDESC:évènements pour Gard Nature
BEGIN:VTIMEZONE
TZID:Europe/Paris
BEGIN:DAYLIGHT
TZOFFSETFROM:+0100
TZOFFSETTO:+0200
TZNAME:CEST
DTSTART:20240331T010000
END:DAYLIGHT
BEGIN:STANDARD
TZOFFSETFROM:+0200
TZOFFSETTO:+0100
TZNAME:CET
DTSTART:20241027T010000
END:STANDARD
END:VTIMEZONE
BEGIN:VEVENT
DTSTART;TZID=Europe/Paris:20240518T090000
DTEND;TZID=Europe/Paris:20240518T170000
DTSTAMP:20260424T212212
CREATED:20240401T173949Z
LAST-MODIFIED:20240401T173949Z
UID:18254-1716022800-1716051600@gard-nature.com
SUMMARY:Sortie botanique à Saint-Théodorit
DESCRIPTION:Sortie botanique à Saint-Théodorit avec Philippe ce samedi 18 mai. \nRendez-vous à 9h avec le pique-nique. \nLe lieu de rendez-vous sera précisé très prochainement. \nPour plus de renseignements vous pouvez contacter Laurent au 06 52 97 27 33
URL:https://gard-nature.com/event/sortie-botanique-a-saint-theodorit/
CATEGORIES:Sorties 2024,Sorties Gard nature
END:VEVENT
END:VCALENDAR