BEGIN:VCALENDAR
VERSION:2.0
PRODID:-//Gard Nature - ECPv5.2.1//NONSGML v1.0//EN
CALSCALE:GREGORIAN
METHOD:PUBLISH
X-WR-CALNAME:Gard Nature
X-ORIGINAL-URL:https://gard-nature.com
X-WR-CALDESC:évènements pour Gard Nature
BEGIN:VTIMEZONE
TZID:Europe/Paris
BEGIN:DAYLIGHT
TZOFFSETFROM:+0100
TZOFFSETTO:+0200
TZNAME:CEST
DTSTART:20250330T010000
END:DAYLIGHT
BEGIN:STANDARD
TZOFFSETFROM:+0200
TZOFFSETTO:+0100
TZNAME:CET
DTSTART:20251026T010000
END:STANDARD
END:VTIMEZONE
BEGIN:VEVENT
DTSTART;TZID=Europe/Paris:20250517T090000
DTEND;TZID=Europe/Paris:20250517T170000
DTSTAMP:20260424T020044
CREATED:20250502T172445Z
LAST-MODIFIED:20260216T210414Z
UID:18828-1747472400-1747501200@gard-nature.com
SUMMARY:Sortie ornitho à la manade de Saint Nazaire de Pézan
DESCRIPTION:Ce samedi 17 mai\, Hervé et Maryvonne  nous proposent de retrouver la magnifique richesse ornithologique de la manade de Saint Nazaire de Pézan. \nRendez-vous à 9h avec le pique-nique devant la cabane de gardian (manade Iris Lafon) à la sortie de Saint Just sur la D 24. \nPour plus de renseignements\, contacter Maryvonne au 06 60 40 15 74
URL:https://gard-nature.com/event/sortie-ornitho-a-la-manade-de-saint-nazaire-de-pezan-2/
CATEGORIES:Sorties 2025,Sorties Gard nature
END:VEVENT
END:VCALENDAR