BEGIN:VCALENDAR
VERSION:2.0
PRODID:-//Gard Nature - ECPv5.2.1//NONSGML v1.0//EN
CALSCALE:GREGORIAN
METHOD:PUBLISH
X-WR-CALNAME:Gard Nature
X-ORIGINAL-URL:https://gard-nature.com
X-WR-CALDESC:évènements pour Gard Nature
BEGIN:VTIMEZONE
TZID:Europe/Paris
BEGIN:DAYLIGHT
TZOFFSETFROM:+0100
TZOFFSETTO:+0200
TZNAME:CEST
DTSTART:20250330T010000
END:DAYLIGHT
BEGIN:STANDARD
TZOFFSETFROM:+0200
TZOFFSETTO:+0100
TZNAME:CET
DTSTART:20251026T010000
END:STANDARD
END:VTIMEZONE
BEGIN:VEVENT
DTSTART;TZID=Europe/Paris:20251214T093000
DTEND;TZID=Europe/Paris:20251214T160000
DTSTAMP:20260423T164249
CREATED:20251111T183326Z
LAST-MODIFIED:20251111T185853Z
UID:19072-1765704600-1765728000@gard-nature.com
SUMMARY:Sortie ornitho au Mont Ventoux
DESCRIPTION:Cela faisait un petit moment que nous n’étions pas allés observer les oiseaux sur les pentes du Mont Ventoux\, notamment ceux venus passer la “mauvaise” saison sur ses pentes accueillantes. \nHervé et Maryvonne nous proposent de les y rejoindre le dimanche 14 décembre. \nRendez-vous donc pour cette sortie ornitho au Mont Ventoux le dimanche 14 décembre à 9h30 sur le parking du Chalet Reynard. \nSi cette petite escapade vous tente\, pensez à prévenir Maryvonne au 06 60 40 15 74 ou Laurent au 06 52 97 27 33 (par mail laurent.iparraguirre@orange.fr).
URL:https://gard-nature.com/event/sortie-ornitho-au-mont-ventoux-2/
CATEGORIES:Sorties 2025,Sorties Gard nature
END:VEVENT
END:VCALENDAR