BEGIN:VCALENDAR
VERSION:2.0
PRODID:-//Gard Nature - ECPv5.2.1//NONSGML v1.0//EN
CALSCALE:GREGORIAN
METHOD:PUBLISH
X-WR-CALNAME:Gard Nature
X-ORIGINAL-URL:https://gard-nature.com
X-WR-CALDESC:évènements pour Gard Nature
BEGIN:VTIMEZONE
TZID:Europe/Paris
BEGIN:DAYLIGHT
TZOFFSETFROM:+0100
TZOFFSETTO:+0200
TZNAME:CEST
DTSTART:20240331T010000
END:DAYLIGHT
BEGIN:STANDARD
TZOFFSETFROM:+0200
TZOFFSETTO:+0100
TZNAME:CET
DTSTART:20241027T010000
END:STANDARD
END:VTIMEZONE
BEGIN:VEVENT
DTSTART;TZID=Europe/Paris:20241201T100000
DTEND;TZID=Europe/Paris:20241201T163000
DTSTAMP:20260424T092258
CREATED:20241005T084411Z
LAST-MODIFIED:20241008T180754Z
UID:18498-1733047200-1733070600@gard-nature.com
SUMMARY:Sortie prospection Faune et Flore à Montagnac
DESCRIPTION:En compagnie de Jean-Laurent et Philippe nous tenterons de déceler et observer les richesses naturalistes sur les chemins de Montagnac\, une commune au cœur des Bois de Lens entre Nîmes et Lédignan. \nRendez-vous donc à 10h\, avec le pique-nique\, le dimanche 1er décembre devant la mairie de Montagnac. \nN’hésitez pas à me contacter pour plus de renseignements au 06 52 97 27 33 ou par mail laurent.iparraguirre@orange.fr
URL:https://gard-nature.com/event/sortie-prospection-faune-et-flore-a-montagnac/
CATEGORIES:Prospection pour l'Observatoire,Sorties 2024,Sorties Gard nature
END:VEVENT
END:VCALENDAR